BEGIN:VCALENDAR
VERSION:2.0
PRODID:-//Tuolumne County Superintendent of Schools - ECPv6.15.18//NONSGML v1.0//EN
CALSCALE:GREGORIAN
METHOD:PUBLISH
X-WR-CALNAME:Tuolumne County Superintendent of Schools
X-ORIGINAL-URL:https://www.tcsos.us
X-WR-CALDESC:Events for Tuolumne County Superintendent of Schools
REFRESH-INTERVAL;VALUE=DURATION:PT1H
X-Robots-Tag:noindex
X-PUBLISHED-TTL:PT1H
BEGIN:VTIMEZONE
TZID:America/Los_Angeles
BEGIN:DAYLIGHT
TZOFFSETFROM:-0800
TZOFFSETTO:-0700
TZNAME:PDT
DTSTART:20220313T100000
END:DAYLIGHT
BEGIN:STANDARD
TZOFFSETFROM:-0700
TZOFFSETTO:-0800
TZNAME:PST
DTSTART:20221106T090000
END:STANDARD
BEGIN:DAYLIGHT
TZOFFSETFROM:-0800
TZOFFSETTO:-0700
TZNAME:PDT
DTSTART:20230312T100000
END:DAYLIGHT
BEGIN:STANDARD
TZOFFSETFROM:-0700
TZOFFSETTO:-0800
TZNAME:PST
DTSTART:20231105T090000
END:STANDARD
BEGIN:DAYLIGHT
TZOFFSETFROM:-0800
TZOFFSETTO:-0700
TZNAME:PDT
DTSTART:20240310T100000
END:DAYLIGHT
BEGIN:STANDARD
TZOFFSETFROM:-0700
TZOFFSETTO:-0800
TZNAME:PST
DTSTART:20241103T090000
END:STANDARD
END:VTIMEZONE
BEGIN:VEVENT
DTSTART;TZID=America/Los_Angeles:20230502T153000
DTEND;TZID=America/Los_Angeles:20230502T163000
DTSTAMP:20260423T222525
CREATED:20230405T171625Z
LAST-MODIFIED:20241018T221215Z
UID:10529-1683041400-1683045000@www.tcsos.us
SUMMARY:Documents for Life
DESCRIPTION:“Documents for Life” is designed specifically for TCSOS employees who want to ensure they have the necessary documentation for their estate planning needs. \nDuring this workshop\, we will cover the critical legal documents you should consider putting in place\, including advance directives\, beneficiary forms\, wills\, and trusts. Our goal is to provide you with the information you need to make informed decisions about your future and protect your loved ones. \nPlease note that this workshop is exclusive to TCSOS employees\, so you can ask any questions or raise concerns specific to your situation. We understand that estate planning can be a sensitive topic\, and we are here to support you every step of the way. \nJoin us for “Documents for Life” and take the first step towards securing your future. We look forward to seeing you there.
URL:https://www.tcsos.us/events/documents-for-life/
LOCATION:Tuolumne County Superintendent of Schools Office\, 175 Fairview Lane\, Sonora\, CA\, 95370\, United States
CATEGORIES:EAP,TCSOS Employee Training
ATTACH;FMTTYPE=image/jpeg:https://www.tcsos.us/wp-content/uploads/pexels-mikhail-nilov-7731330.jpg
ORGANIZER;CN="Denise Harris":MAILTO:dharris@tcsos.us
END:VEVENT
END:VCALENDAR